BEGIN:VCALENDAR
VERSION:2.0
PRODID:-//RIGHTHERE//CALENDARIZE IT V3.2//EN
BEGIN:VEVENT
UID:7745-events@caumas.org
DTSTART;VALUE=DATE:20180321
DTEND;VALUE=DATE:20180321
DTSTAMP:20180321T153301Z
SUMMARY:FIRMA DEL PROYECTO CONSUMO XUNTA DE GALICIA
URL:https://caumas.org/events/7745/
END:VEVENT
END:VCALENDAR